BEGIN:VCALENDAR
VERSION:2.0
PRODID:-//jEvents 2.0 for Joomla//EN
CALSCALE:GREGORIAN
METHOD:PUBLISH
BEGIN:VTIMEZONE
TZID:Europe/Berlin
BEGIN:STANDARD
DTSTART:20231029T020000
RDATE:20240331T030000
TZOFFSETFROM:+0200
TZOFFSETTO:+0100
TZNAME:Europe/Berlin CET
END:STANDARD
BEGIN:STANDARD
DTSTART:20241027T020000
RDATE:20250330T030000
TZOFFSETFROM:+0200
TZOFFSETTO:+0100
TZNAME:Europe/Berlin CET
END:STANDARD
BEGIN:STANDARD
DTSTART:20251026T020000
RDATE:20260329T030000
TZOFFSETFROM:+0200
TZOFFSETTO:+0100
TZNAME:Europe/Berlin CET
END:STANDARD
BEGIN:STANDARD
DTSTART:20261025T020000
RDATE:20270328T030000
TZOFFSETFROM:+0200
TZOFFSETTO:+0100
TZNAME:Europe/Berlin CET
END:STANDARD
BEGIN:STANDARD
DTSTART:20271031T020000
RDATE:20280326T030000
TZOFFSETFROM:+0200
TZOFFSETTO:+0100
TZNAME:Europe/Berlin CET
END:STANDARD
BEGIN:STANDARD
DTSTART:20281029T020000
RDATE:20290325T030000
TZOFFSETFROM:+0200
TZOFFSETTO:+0100
TZNAME:Europe/Berlin CET
END:STANDARD
BEGIN:DAYLIGHT
DTSTART:20230408T201500
RDATE:20231029T020000
TZOFFSETFROM:+0100
TZOFFSETTO:+0200
TZNAME:Europe/Berlin CEST
END:DAYLIGHT
BEGIN:DAYLIGHT
DTSTART:20240331T030000
RDATE:20241027T020000
TZOFFSETFROM:+0100
TZOFFSETTO:+0200
TZNAME:Europe/Berlin CEST
END:DAYLIGHT
BEGIN:DAYLIGHT
DTSTART:20250330T030000
RDATE:20251026T020000
TZOFFSETFROM:+0100
TZOFFSETTO:+0200
TZNAME:Europe/Berlin CEST
END:DAYLIGHT
BEGIN:DAYLIGHT
DTSTART:20260329T030000
RDATE:20261025T020000
TZOFFSETFROM:+0100
TZOFFSETTO:+0200
TZNAME:Europe/Berlin CEST
END:DAYLIGHT
BEGIN:DAYLIGHT
DTSTART:20270328T030000
RDATE:20271031T020000
TZOFFSETFROM:+0100
TZOFFSETTO:+0200
TZNAME:Europe/Berlin CEST
END:DAYLIGHT
BEGIN:DAYLIGHT
DTSTART:20280326T030000
RDATE:20281029T020000
TZOFFSETFROM:+0100
TZOFFSETTO:+0200
TZNAME:Europe/Berlin CEST
END:DAYLIGHT
END:VTIMEZONE
BEGIN:VEVENT
UID:6e003786accafdf7939cb1d166fc0a0c
CATEGORIES:Probentermine
CREATED:19700101T010000
SUMMARY:Probe
LOCATION:Martiniheim Wilnsdorf
DESCRIPTION:
DTSTAMP:20260424T111225
DTSTART;TZID=Europe/Berlin:20240408T201500
DTEND;TZID=Europe/Berlin:20240408T214500
SEQUENCE:0
RRULE:FREQ=WEEKLY;UNTIL=20240702T000000Z;INTERVAL=1;BYDAY=MO
EXDATE;TZID=Europe/Berlin:20240520T201500
TRANSP:OPAQUE
END:VEVENT
BEGIN:VEVENT
UID:6e003786accafdf7939cb1d166fc0a0c
CATEGORIES:Probentermine
CREATED:20240322T185455
SUMMARY:Probe
LOCATION:Martiniheim Wilnsdorf
DESCRIPTION:
URL;VALUE=URI:https://mc.sb-wi.de/index.php/kalender/eventdetail/136/-/probe?tmpl=compone
 nt

DTSTAMP:20260424T111225
DTSTART;TZID=Europe/Berlin:20240422T180000
DTEND;TZID=Europe/Berlin:20240422T193000
RECURRENCE-ID;TZID=Europe/Berlin:20240422T201500
SEQUENCE:0
TRANSP:OPAQUE
END:VEVENT
BEGIN:VEVENT
UID:6e003786accafdf7939cb1d166fc0a0c
CATEGORIES:Probentermine
CREATED:20240322T185455
SUMMARY:Probe
LOCATION:Martiniheim Wilnsdorf (unten)
DESCRIPTION:
URL;VALUE=URI:https://mc.sb-wi.de/index.php/kalender/eventdetail/144/-/probe?tmpl=compone
 nt

DTSTAMP:20260424T111225
DTSTART;TZID=Europe/Berlin:20240617T181500
DTEND;TZID=Europe/Berlin:20240617T194500
RECURRENCE-ID;TZID=Europe/Berlin:20240617T201500
SEQUENCE:0
TRANSP:OPAQUE
END:VEVENT
END:VCALENDAR